BEGIN:VCALENDAR
METHOD:PUBLISH
VERSION:2.0
PRODID:-//Eventilla iCal Syndication//NONSGML Liana//EN
BEGIN:VEVENT
UID:Ooo84@eventilla.com
DTSTAMP:20241210T120000Z
DTSTART:20241210T120000Z
DTEND:20241210T140000Z
SUMMARY:Mikä IT-standardoinnissa puhututtaa vuonna 2025?
DESCRIPTION:Tervetuloa keskustelutilaisuuteen IT-standardeista 10.12. klo 14–16. Tapahtuma sopii erityisesti kaikille digiaikakauden liiketoiminnan johtamisesta\, kehittämisestä ja kokonaisarvioinnista kiinnostuneille.\nDigialan eurooppalaisen sääntelytsunamin jatkona monella alalla puurretaan nyt eurooppalaisten standardien parissa. Data-avaruudet ovat uusi käsite\, kvanttiteknologioiden standardit alkavat muotoutua ja digitaalinen tuotepassi tarjoaa elinkaaritietoja jo vuoden 2025 alusta. Globaalisti Metaverse tarjoaa mahdollisuuksia immersiivisiin kokemuksiin\, kunhan tietojen yhteentoimivuudesta on huolehdittu.\nMitä näiden aihealueiden standardoinnissa tapahtuu ja miten uudet IT-standardit voivat edistää digitaalisen liiketoiminnan kehitystä?Tervetuloa kuulemaan vastauksia ja ottamaan aiheisiin kantaa Helsingin Kampissa tai etänä.Paikan päälle saapuville on luvassa glögi- ja kahvitarjoilu sekä mahdollisuus verkostoitua ja osallistua keskusteluun.\nTapahtuma on maksuton\, ja se tallennetaan.\nOhjelma\nSFS:n ja IT-standardoinnin esittely: uudet standardointialueet – data spaces ja digitaalinen tuotepassiMeri Valtiala\, asiantuntija\, SFS Standardeista valjaat tekoälylleTimo Ali-Vehmas\, TkT\, SFS Standardointilautakunnan jäsen\,SFS/SR 315 Tekoäly -ryhmän puheenjohtajaGlögit ja verkostoitumistaukoSetting the Foundation: Multimedia Standards Paving the Way for the MetaverseVille-Veikko Mattila\, Head of Video Research Center-of-Excellence\, Nokia TechnologiesJohtamisen standardit IT-alallaTomi Dahlberg\, professori\, hallitusammattilainen\, DBE CoreOnko poikkitieteelliselle standardointikoulutukselle tarvetta Suomessa? Havaintoja Suomen standardointipaneeli -pilottitutkimuksestaJussi Heikkilä\, dosentti\, LUT School of Engineering Sciences ja StandardEdge-tutkimusprojekti
LOCATION:Meeting Park Kamppi\, Salomonkatu 5 C\, 00100\, Helsinki\, Suomi
URL:http://tapahtumat.sfs.fi/it-standardointi-2024
END:VEVENT
END:VCALENDAR
